BEGIN:VCALENDAR
VERSION:2.0
PRODID:-//Division of Historical and Cultural Affairs - State of Delaware - ECPv6.15.12.2//NONSGML v1.0//EN
CALSCALE:GREGORIAN
METHOD:PUBLISH
X-WR-CALNAME:Division of Historical and Cultural Affairs - State of Delaware
X-ORIGINAL-URL:https://history.delaware.gov
X-WR-CALDESC:Events for Division of Historical and Cultural Affairs - State of Delaware
REFRESH-INTERVAL;VALUE=DURATION:PT1H
X-Robots-Tag:noindex
X-PUBLISHED-TTL:PT1H
BEGIN:VTIMEZONE
TZID:America/New_York
BEGIN:DAYLIGHT
TZOFFSETFROM:-0500
TZOFFSETTO:-0400
TZNAME:EDT
DTSTART:20250309T070000
END:DAYLIGHT
BEGIN:STANDARD
TZOFFSETFROM:-0400
TZOFFSETTO:-0500
TZNAME:EST
DTSTART:20251102T060000
END:STANDARD
BEGIN:DAYLIGHT
TZOFFSETFROM:-0500
TZOFFSETTO:-0400
TZNAME:EDT
DTSTART:20260308T070000
END:DAYLIGHT
BEGIN:STANDARD
TZOFFSETFROM:-0400
TZOFFSETTO:-0500
TZNAME:EST
DTSTART:20261101T060000
END:STANDARD
BEGIN:DAYLIGHT
TZOFFSETFROM:-0500
TZOFFSETTO:-0400
TZNAME:EDT
DTSTART:20270314T070000
END:DAYLIGHT
BEGIN:STANDARD
TZOFFSETFROM:-0400
TZOFFSETTO:-0500
TZNAME:EST
DTSTART:20271107T060000
END:STANDARD
END:VTIMEZONE
BEGIN:VEVENT
DTSTART;TZID=America/New_York:20260606T103000
DTEND;TZID=America/New_York:20260606T153000
DTSTAMP:20260421T235941
CREATED:20260421T191118Z
LAST-MODIFIED:20260421T191118Z
UID:84504-1780741800-1780759800@history.delaware.gov
SUMMARY:Loyalist on the Lawn
DESCRIPTION:Meet our costumed historian portraying an officer of the Loyal American Regiment. Learn about the uniforms\, equipment and life of a Loyalist from Lewes during the Revolutionary War.\n \nA special historic paint program\, led by HCA Volunteer Coordinator Jen B.\, will also take place. \n \nOther rotating activities my be available. Good for all ages. No cost to participate.\nQuestions? Call (302) 645-1148 or email zmuseum@delaware.gov 
URL:https://history.delaware.gov/event/loyalist-on-the-lawn-3/
LOCATION:Zwaanendael Museum\, 102 Kings Highway\, Lewes\, DE\, 19958
CATEGORIES:Zwaanendael Museum
END:VEVENT
END:VCALENDAR