BEGIN:VCALENDAR
VERSION:2.0
PRODID:-//Division of Historical and Cultural Affairs - State of Delaware - ECPv6.15.12.2//NONSGML v1.0//EN
CALSCALE:GREGORIAN
METHOD:PUBLISH
X-ORIGINAL-URL:https://history.delaware.gov
X-WR-CALDESC:Events for Division of Historical and Cultural Affairs - State of Delaware
REFRESH-INTERVAL;VALUE=DURATION:PT1H
X-Robots-Tag:noindex
X-PUBLISHED-TTL:PT1H
BEGIN:VTIMEZONE
TZID:America/New_York
BEGIN:DAYLIGHT
TZOFFSETFROM:-0500
TZOFFSETTO:-0400
TZNAME:EDT
DTSTART:20240310T070000
END:DAYLIGHT
BEGIN:STANDARD
TZOFFSETFROM:-0400
TZOFFSETTO:-0500
TZNAME:EST
DTSTART:20241103T060000
END:STANDARD
BEGIN:DAYLIGHT
TZOFFSETFROM:-0500
TZOFFSETTO:-0400
TZNAME:EDT
DTSTART:20250309T070000
END:DAYLIGHT
BEGIN:STANDARD
TZOFFSETFROM:-0400
TZOFFSETTO:-0500
TZNAME:EST
DTSTART:20251102T060000
END:STANDARD
BEGIN:DAYLIGHT
TZOFFSETFROM:-0500
TZOFFSETTO:-0400
TZNAME:EDT
DTSTART:20260308T070000
END:DAYLIGHT
BEGIN:STANDARD
TZOFFSETFROM:-0400
TZOFFSETTO:-0500
TZNAME:EST
DTSTART:20261101T060000
END:STANDARD
END:VTIMEZONE
BEGIN:VEVENT
DTSTART;TZID=America/New_York:20250118T120000
DTEND;TZID=America/New_York:20250118T130000
DTSTAMP:20260419T232638
CREATED:20241126T162622Z
LAST-MODIFIED:20241210T202721Z
UID:78916-1737201600-1737205200@history.delaware.gov
SUMMARY:The Trial of Thomas Garrett
DESCRIPTION:Come participate in the 1848 trial of abolitionist Thomas Garrett in the very court room where it happened. Volunteers will get the chance to stand as witnesses or even been on the jury of the recreation of this Federal Trial. Scripts will be provided to those participating. 
URL:https://history.delaware.gov/event/the-trial-of-thomas-garrett/
LOCATION:New Castle Court House Museum\, 211 Delaware St.\, New Castle\, Delaware\, 19720\, United States
CATEGORIES:New Castle Court House
END:VEVENT
BEGIN:VEVENT
DTSTART;TZID=America/New_York:20250222T120000
DTEND;TZID=America/New_York:20250222T130000
DTSTAMP:20260419T232638
CREATED:20241126T162758Z
LAST-MODIFIED:20241126T162758Z
UID:78922-1740225600-1740229200@history.delaware.gov
SUMMARY:Collision on Route 40: Cold War Tensions and Civil Rights
DESCRIPTION:This presentation brought to you by Delaware Humanities explores how Route 40 in Delaware and Maryland became an unexpected battleground for Cold War tensions and civil rights. On this corridor between Baltimore and the Delaware Memorial Bridge\, international diplomacy\, African decolonization\, Jim Crow\, Soviet propagandists\, and Freedom Riders collided\, forcing a confrontation for the Kennedy administration that involved global tensions and domestic policy.
URL:https://history.delaware.gov/event/collision-on-route-40-cold-war-tensions-and-civil-rights/
LOCATION:New Castle Court House Museum\, 211 Delaware St.\, New Castle\, Delaware\, 19720\, United States
CATEGORIES:New Castle Court House
END:VEVENT
BEGIN:VEVENT
DTSTART;TZID=America/New_York:20250308T110000
DTEND;TZID=America/New_York:20250308T120000
DTSTAMP:20260419T232638
CREATED:20250102T133742Z
LAST-MODIFIED:20250219T174545Z
UID:79214-1741431600-1741435200@history.delaware.gov
SUMMARY:Stories and History: Let's Talk About Monuments
DESCRIPTION:Museum staff will use a toolkit from the Delaware Humanities to discuss monuments\, their controversies and possible creative solutions with a guided activity.
URL:https://history.delaware.gov/event/stories-and-history-lets-talk-about-monuments/
LOCATION:New Castle Court House Museum\, 211 Delaware St.\, New Castle\, Delaware\, 19720\, United States
CATEGORIES:New Castle Court House
END:VEVENT
BEGIN:VEVENT
DTSTART;TZID=America/New_York:20250419T120000
DTEND;TZID=America/New_York:20250419T130000
DTSTAMP:20260419T232638
CREATED:20250102T134712Z
LAST-MODIFIED:20250102T134712Z
UID:79241-1745064000-1745067600@history.delaware.gov
SUMMARY:Native Bee Talk
DESCRIPTION:Local Beekeeper Thomas Lunt will talk about the importance of native bees and native plants for those bees.
URL:https://history.delaware.gov/event/native-bee-talk/
LOCATION:New Castle Court House Museum\, 211 Delaware St.\, New Castle\, Delaware\, 19720\, United States
CATEGORIES:New Castle Court House
END:VEVENT
BEGIN:VEVENT
DTSTART;TZID=America/New_York:20250423T170000
DTEND;TZID=America/New_York:20250423T180000
DTSTAMP:20260419T232638
CREATED:20250317T131206Z
LAST-MODIFIED:20250403T164535Z
UID:80370-1745427600-1745431200@history.delaware.gov
SUMMARY:Escape of the New Castle Prisoner
DESCRIPTION:Join staff from First State National Historical Park and the New Castle Court House Museum for a NEW Escape Room: “Escape of The New Castle Prisoner”. During the program participants will solve educational\, engaging puzzles that will determine which prisoner escaped their cell and where they went. During the program\, participants will search for clues inside the Sheriff’s House\, break into a jail cell\, and attempt the locate the escaped convict. Registration is required for this program and is on a first-come\, first-serve basis. \nWhere: Sheriff’s House Welcome Center (10 Market Street\, New Castle DE 19720)\nCost: FREE\nAge: This program is geared towards people 10 years of age or older. Younger participants may attend but may struggle with following the content. \nNumber of Participants: 2 minimum; 8 maximum \nRegistration: To register for the program please email firststate@nps.gov the following information: \n\n\nPreferred date and time (5:00pm or 6:00pm)\n\n\nNumber of people in your party participating in the program
URL:https://history.delaware.gov/event/new-castle-court-house-escape-room-5/
LOCATION:New Castle Court House Museum\, 211 Delaware St.\, New Castle\, Delaware\, 19720\, United States
CATEGORIES:New Castle Court House
END:VEVENT
BEGIN:VEVENT
DTSTART;TZID=America/New_York:20250423T180000
DTEND;TZID=America/New_York:20250423T190000
DTSTAMP:20260419T232638
CREATED:20250317T131246Z
LAST-MODIFIED:20250403T164511Z
UID:80376-1745431200-1745434800@history.delaware.gov
SUMMARY:Escape of the New Castle Prisoner
DESCRIPTION:Join staff from First State National Historical Park and the New Castle Court House Museum for a NEW Escape Room: “Escape of The New Castle Prisoner”. During the program participants will solve educational\, engaging puzzles that will determine which prisoner escaped their cell and where they went. During the program\, participants will search for clues inside the Sheriff’s House\, break into a jail cell\, and attempt the locate the escaped convict. Registration is required for this program and is on a first-come\, first-serve basis. \nWhere: Sheriff’s House Welcome Center (10 Market Street\, New Castle DE 19720)\nCost: FREE\nAge: This program is geared towards people 10 years of age or older. Younger participants may attend but may struggle with following the content. \nNumber of Participants: 2 minimum; 8 maximum \nRegistration: To register for the program please email firststate@nps.gov the following information: \n\n\nPreferred date and time (5:00pm or 6:00pm)\n\n\nNumber of people in your party participating in the program
URL:https://history.delaware.gov/event/new-castle-court-house-escape-room-6/
LOCATION:New Castle Court House Museum\, 211 Delaware St.\, New Castle\, Delaware\, 19720\, United States
CATEGORIES:New Castle Court House
END:VEVENT
BEGIN:VEVENT
DTSTART;TZID=America/New_York:20250424T170000
DTEND;TZID=America/New_York:20250424T180000
DTSTAMP:20260419T232638
CREATED:20250311T132945Z
LAST-MODIFIED:20250403T164238Z
UID:80328-1745514000-1745517600@history.delaware.gov
SUMMARY:Escape of the New Castle Prisoner
DESCRIPTION:Join staff from First State National Historical Park and the New Castle Court House Museum for a NEW Escape Room: “Escape of The New Castle Prisoner”. During the program participants will solve educational\, engaging puzzles that will determine which prisoner escaped their cell and where they went. During the program\, participants will search for clues inside the Sheriff’s House\, break into a jail cell\, and attempt the locate the escaped convict. Registration is required for this program and is on a first-come\, first-serve basis. \nWhere: Sheriff’s House Welcome Center (10 Market Street\, New Castle DE 19720)\nCost: FREE\nAge: This program is geared towards people 10 years of age or older. Younger participants may attend but may struggle with following the content. \nNumber of Participants: 2 minimum; 8 maximum \nRegistration: To register for the program please email firststate@nps.gov the following information: \n\n\nPreferred date and time (5:00pm or 6:00pm)\n\n\nNumber of people in your party participating in the program
URL:https://history.delaware.gov/event/new-castle-court-house-escape-room/
LOCATION:New Castle Court House Museum\, 211 Delaware St.\, New Castle\, Delaware\, 19720\, United States
CATEGORIES:New Castle Court House
END:VEVENT
BEGIN:VEVENT
DTSTART;TZID=America/New_York:20250424T180000
DTEND;TZID=America/New_York:20250424T190000
DTSTAMP:20260419T232638
CREATED:20250311T133031Z
LAST-MODIFIED:20250403T164219Z
UID:80334-1745517600-1745521200@history.delaware.gov
SUMMARY:Escape of the New Castle Prisoner
DESCRIPTION:Join staff from First State National Historical Park and the New Castle Court House Museum for a NEW Escape Room: “Escape of The New Castle Prisoner”. During the program participants will solve educational\, engaging puzzles that will determine which prisoner escaped their cell and where they went. During the program\, participants will search for clues inside the Sheriff’s House\, break into a jail cell\, and attempt the locate the escaped convict. Registration is required for this program and is on a first-come\, first-serve basis. \nWhere: Sheriff’s House Welcome Center (10 Market Street\, New Castle DE 19720)\nCost: FREE\nAge: This program is geared towards people 10 years of age or older. Younger participants may attend but may struggle with following the content. \nNumber of Participants: 2 minimum; 8 maximum \nRegistration: To register for the program please email firststate@nps.gov the following information: \n\n\nPreferred date and time (5:00pm or 6:00pm)\n\n\nNumber of people in your party participating in the program
URL:https://history.delaware.gov/event/new-castle-court-house-escape-room-2/
LOCATION:New Castle Court House Museum\, 211 Delaware St.\, New Castle\, Delaware\, 19720\, United States
CATEGORIES:New Castle Court House
END:VEVENT
BEGIN:VEVENT
DTSTART;TZID=America/New_York:20250425T170000
DTEND;TZID=America/New_York:20250425T180000
DTSTAMP:20260419T232638
CREATED:20250314T180856Z
LAST-MODIFIED:20250403T164204Z
UID:80359-1745600400-1745604000@history.delaware.gov
SUMMARY:Escape of the New Castle Prisoner
DESCRIPTION:Join staff from First State National Historical Park and the New Castle Court House Museum for a NEW Escape Room: “Escape of The New Castle Prisoner”. During the program participants will solve educational\, engaging puzzles that will determine which prisoner escaped their cell and where they went. During the program\, participants will search for clues inside the Sheriff’s House\, break into a jail cell\, and attempt the locate the escaped convict. Registration is required for this program and is on a first-come\, first-serve basis. \nWhere: Sheriff’s House Welcome Center (10 Market Street\, New Castle DE 19720)\nCost: FREE\nAge: This program is geared towards people 10 years of age or older. Younger participants may attend but may struggle with following the content. \nNumber of Participants: 2 minimum; 8 maximum \nRegistration: To register for the program please email firststate@nps.gov the following information: \n\n\nPreferred date and time (5:00pm or 6:00pm)\n\n\nNumber of people in your party participating in the program
URL:https://history.delaware.gov/event/new-castle-court-house-escape-room-3/
LOCATION:New Castle Court House Museum\, 211 Delaware St.\, New Castle\, Delaware\, 19720\, United States
CATEGORIES:New Castle Court House
END:VEVENT
BEGIN:VEVENT
DTSTART;TZID=America/New_York:20250425T180000
DTEND;TZID=America/New_York:20250425T190000
DTSTAMP:20260419T232638
CREATED:20250314T181009Z
LAST-MODIFIED:20250403T164142Z
UID:80365-1745604000-1745607600@history.delaware.gov
SUMMARY:Escape of the New Castle Prisoner
DESCRIPTION:Join staff from First State National Historical Park and the New Castle Court House Museum for a NEW Escape Room: “Escape of The New Castle Prisoner”. During the program participants will solve educational\, engaging puzzles that will determine which prisoner escaped their cell and where they went. During the program\, participants will search for clues inside the Sheriff’s House\, break into a jail cell\, and attempt the locate the escaped convict. Registration is required for this program and is on a first-come\, first-serve basis. \nWhere: Sheriff’s House Welcome Center (10 Market Street\, New Castle DE 19720)\nCost: FREE\nAge: This program is geared towards people 10 years of age or older. Younger participants may attend but may struggle with following the content. \nNumber of Participants: 2 minimum; 8 maximum \nRegistration: To register for the program please email firststate@nps.gov the following information: \n\n\nPreferred date and time (5:00pm or 6:00pm)\n\n\nNumber of people in your party participating in the program
URL:https://history.delaware.gov/event/new-castle-court-house-escape-room-4/
LOCATION:New Castle Court House Museum\, 211 Delaware St.\, New Castle\, Delaware\, 19720\, United States
CATEGORIES:New Castle Court House
END:VEVENT
BEGIN:VEVENT
DTSTART;VALUE=DATE:20250517
DTEND;VALUE=DATE:20250518
DTSTAMP:20260419T232638
CREATED:20250102T134812Z
LAST-MODIFIED:20250421T172222Z
UID:79247-1747440000-1747526399@history.delaware.gov
SUMMARY:Day in Old New Castle
DESCRIPTION:How many events do you know of that can say they achieved their 100th?  This is every exciting for Historic New Castle and we have been proactively promoting that achievement. The theme for our 100th anniversary is to recreate the first 1925 event as well as A Day in Old New Castle through the decades. We are looking to have the original buildings and homes open\, plus other private homes and gardens. We will have family friendly activities that are free of charge so anyone can come enjoy the day! \nIf you purchase a ticket you receive: \n\nDock tour on the Kalmar Nyckel \nHistoric houses and gardens open for tour\nMuseums and church tours\n$1 off ticket price if you dress in Colonial or Victorian period clothing\n\nThe following features are Free of Charge throughout the day: \n\n1900-1940 antique cars from the Brandywine Antique Car Club\nSteam Cars from the Marshall Steam Car Museum\nThe Wheelmen antique velocipedes and bicycles\n1st Delaware Regiment Encampment/Ft. Casimir Garrison Encampment\nColonial Artisans and crafts \n​Children’s activities \nSaturday Market ​\nAnd so much more…. 
URL:https://history.delaware.gov/event/day-in-old-new-castle/
LOCATION:New Castle Court House Museum\, 211 Delaware St.\, New Castle\, Delaware\, 19720\, United States
CATEGORIES:New Castle Court House
END:VEVENT
BEGIN:VEVENT
DTSTART;TZID=America/New_York:20250530T100000
DTEND;TZID=America/New_York:20250530T110000
DTSTAMP:20260419T232638
CREATED:20250306T145023Z
LAST-MODIFIED:20250306T145023Z
UID:80200-1748599200-1748602800@history.delaware.gov
SUMMARY:Walking Tour of the Green
DESCRIPTION:Join the staff at the New Castle Court House Museum for a walking tour of New Castle Green and learn about the history of Green and the structures around it.
URL:https://history.delaware.gov/event/walking-tour-of-the-green/
LOCATION:New Castle Court House Museum\, 211 Delaware St.\, New Castle\, Delaware\, 19720\, United States
CATEGORIES:New Castle Court House
END:VEVENT
BEGIN:VEVENT
DTSTART;TZID=America/New_York:20250606T100000
DTEND;TZID=America/New_York:20250606T110000
DTSTAMP:20260419T232638
CREATED:20250306T145137Z
LAST-MODIFIED:20250506T122452Z
UID:80206-1749204000-1749207600@history.delaware.gov
SUMMARY:Walking Tour of the Green
DESCRIPTION:Join the staff at the New Castle Court House Museum for a walking tour of New Castle Green and learn about the history of Green and the structures around it. \nTours run every Friday morning in summer! Check our calendar for a full list of dates.
URL:https://history.delaware.gov/event/walking-tour-of-the-green-2/
LOCATION:New Castle Court House Museum\, 211 Delaware St.\, New Castle\, Delaware\, 19720\, United States
CATEGORIES:New Castle Court House
END:VEVENT
BEGIN:VEVENT
DTSTART;TZID=America/New_York:20250607T100000
DTEND;TZID=America/New_York:20250607T160000
DTSTAMP:20260419T232638
CREATED:20250306T145536Z
LAST-MODIFIED:20250306T145747Z
UID:80232-1749290400-1749312000@history.delaware.gov
SUMMARY:Separation Day
DESCRIPTION:Separation Day is the annual celebration of Delaware’s independence from Pennsylvania and the British Crown. 2025 marks the 249th anniversary of arguably one of the longest running traditions in the state. The community event is held annually in Historic New Castle. Friday night festivities include music\, food and drink in the center of town. Saturday kicks off with a Colonial-inspired parade. The middle of the day is filled with children’s rides\, an Artisan & Vintage market\, live music\, beer garden and foods prepared by community groups. The day culminates with fireworks over the Delaware River.
URL:https://history.delaware.gov/event/separation-day/
LOCATION:New Castle Court House Museum\, 211 Delaware St.\, New Castle\, Delaware\, 19720\, United States
CATEGORIES:New Castle Court House
END:VEVENT
BEGIN:VEVENT
DTSTART;TZID=America/New_York:20250613T100000
DTEND;TZID=America/New_York:20250613T110000
DTSTAMP:20260419T232638
CREATED:20250306T145259Z
LAST-MODIFIED:20250306T145259Z
UID:80212-1749808800-1749812400@history.delaware.gov
SUMMARY:Walking Tour of the Green
DESCRIPTION:Join the staff at the New Castle Court House Museum for a walking tour of New Castle Green and learn about the history of Green and the structures around it.
URL:https://history.delaware.gov/event/walking-tour-of-the-green-3/
LOCATION:New Castle Court House Museum\, 211 Delaware St.\, New Castle\, Delaware\, 19720\, United States
CATEGORIES:New Castle Court House
END:VEVENT
BEGIN:VEVENT
DTSTART;TZID=America/New_York:20250620T100000
DTEND;TZID=America/New_York:20250620T110000
DTSTAMP:20260419T232638
CREATED:20250306T145337Z
LAST-MODIFIED:20250306T145359Z
UID:80218-1750413600-1750417200@history.delaware.gov
SUMMARY:Walking Tour of the Green
DESCRIPTION:Join the staff at the New Castle Court House Museum for a walking tour of New Castle Green and learn about the history of the Green and the structures around it.
URL:https://history.delaware.gov/event/walking-tour-of-the-green-4/
LOCATION:New Castle Court House Museum\, 211 Delaware St.\, New Castle\, Delaware\, 19720\, United States
CATEGORIES:New Castle Court House
END:VEVENT
BEGIN:VEVENT
DTSTART;TZID=America/New_York:20250627T100000
DTEND;TZID=America/New_York:20250627T110000
DTSTAMP:20260419T232638
CREATED:20250306T145443Z
LAST-MODIFIED:20250306T145443Z
UID:80227-1751018400-1751022000@history.delaware.gov
SUMMARY:Walking Tour of the Green
DESCRIPTION:Join the staff at the New Castle Court House Museum for a walking tour of New Castle Green and learn about the history of the Green and the structures around it.
URL:https://history.delaware.gov/event/walking-tour-of-the-green-5/
LOCATION:New Castle Court House Museum\, 211 Delaware St.\, New Castle\, Delaware\, 19720\, United States
CATEGORIES:New Castle Court House
END:VEVENT
BEGIN:VEVENT
DTSTART;TZID=America/New_York:20250628T200000
DTEND;TZID=America/New_York:20250628T223000
DTSTAMP:20260419T232638
CREATED:20250306T145908Z
LAST-MODIFIED:20250306T150719Z
UID:80242-1751140800-1751149800@history.delaware.gov
SUMMARY:Dog Days of Summer
DESCRIPTION:Join us on the Green to watch 1776 and learn about the history behind it.
URL:https://history.delaware.gov/event/dog-day-of-summer/
LOCATION:New Castle Court House Museum\, 211 Delaware St.\, New Castle\, Delaware\, 19720\, United States
CATEGORIES:New Castle Court House
END:VEVENT
BEGIN:VEVENT
DTSTART;TZID=America/New_York:20250711T100000
DTEND;TZID=America/New_York:20250711T110000
DTSTAMP:20260419T232638
CREATED:20250306T150831Z
LAST-MODIFIED:20250306T150831Z
UID:80275-1752228000-1752231600@history.delaware.gov
SUMMARY:Walking Tour of the Green
DESCRIPTION:Join the staff at the New Castle Court House Museum for a walking tour of New Castle Green and learn about the history of Green and the structures around it.
URL:https://history.delaware.gov/event/walking-tour-of-the-green-7/
LOCATION:New Castle Court House Museum\, 211 Delaware St.\, New Castle\, Delaware\, 19720\, United States
CATEGORIES:New Castle Court House
END:VEVENT
BEGIN:VEVENT
DTSTART;TZID=America/New_York:20250712T200000
DTEND;TZID=America/New_York:20250712T223000
DTSTAMP:20260419T232638
CREATED:20250306T150430Z
LAST-MODIFIED:20250306T150430Z
UID:80260-1752350400-1752359400@history.delaware.gov
SUMMARY:Dog Days of Summer
DESCRIPTION:Join us on the Green as we watch National Treasure and discuss some of the history discussed in the movie.
URL:https://history.delaware.gov/event/dog-days-of-summer/
LOCATION:New Castle Court House Museum\, 211 Delaware St.\, New Castle\, Delaware\, 19720\, United States
CATEGORIES:New Castle Court House
END:VEVENT
BEGIN:VEVENT
DTSTART;TZID=America/New_York:20250718T100000
DTEND;TZID=America/New_York:20250718T110000
DTSTAMP:20260419T232638
CREATED:20250306T150907Z
LAST-MODIFIED:20250306T150907Z
UID:80281-1752832800-1752836400@history.delaware.gov
SUMMARY:Walking Tour of the Green
DESCRIPTION:Join the staff at the New Castle Court House Museum for a walking tour of New Castle Green and learn about the history of Green and the structures around it.
URL:https://history.delaware.gov/event/walking-tour-of-the-green-8/
LOCATION:New Castle Court House Museum\, 211 Delaware St.\, New Castle\, Delaware\, 19720\, United States
CATEGORIES:New Castle Court House
END:VEVENT
BEGIN:VEVENT
DTSTART;TZID=America/New_York:20250725T100000
DTEND;TZID=America/New_York:20250725T110000
DTSTAMP:20260419T232638
CREATED:20250306T150952Z
LAST-MODIFIED:20250306T150952Z
UID:80287-1753437600-1753441200@history.delaware.gov
SUMMARY:Walking Tour of the Green
DESCRIPTION:Join the staff at the New Castle Court House Museum for a walking tour of New Castle Green and learn about the history of Green and the structures around it.
URL:https://history.delaware.gov/event/walking-tour-of-the-green-9/
LOCATION:New Castle Court House Museum\, 211 Delaware St.\, New Castle\, Delaware\, 19720\, United States
CATEGORIES:New Castle Court House
END:VEVENT
BEGIN:VEVENT
DTSTART;TZID=America/New_York:20250801T100000
DTEND;TZID=America/New_York:20250801T110000
DTSTAMP:20260419T232638
CREATED:20250501T140602Z
LAST-MODIFIED:20250501T141356Z
UID:81132-1754042400-1754046000@history.delaware.gov
SUMMARY:Walking Tour of the Green
DESCRIPTION:Join the staff at the New Castle Court House Museum for a walking tour of New Castle Green and learn about the history of Green and the structures around it.
URL:https://history.delaware.gov/event/walking-tour-of-the-green-10/
LOCATION:New Castle Court House Museum\, 211 Delaware St.\, New Castle\, Delaware\, 19720\, United States
CATEGORIES:New Castle Court House
END:VEVENT
BEGIN:VEVENT
DTSTART;TZID=America/New_York:20250805T190000
DTEND;TZID=America/New_York:20250805T200000
DTSTAMP:20260419T232638
CREATED:20250501T141104Z
LAST-MODIFIED:20250501T141104Z
UID:81144-1754420400-1754424000@history.delaware.gov
SUMMARY:History Revival
DESCRIPTION:This year’s theme for History Revival is historic sporting! Check back for specific details about program presenters. 
URL:https://history.delaware.gov/event/history-revival/
LOCATION:New Castle Court House Museum\, 211 Delaware St.\, New Castle\, Delaware\, 19720\, United States
CATEGORIES:History Revival,New Castle Court House
END:VEVENT
BEGIN:VEVENT
DTSTART;TZID=America/New_York:20250807T190000
DTEND;TZID=America/New_York:20250807T200000
DTSTAMP:20260419T232638
CREATED:20250501T141732Z
LAST-MODIFIED:20250501T141732Z
UID:81156-1754593200-1754596800@history.delaware.gov
SUMMARY:History Revival
DESCRIPTION:This year’s theme for History Revival is historic sporting! Check back for specific details about program presenters. 
URL:https://history.delaware.gov/event/history-revival-2/
LOCATION:New Castle Court House Museum\, 211 Delaware St.\, New Castle\, Delaware\, 19720\, United States
CATEGORIES:New Castle Court House
END:VEVENT
BEGIN:VEVENT
DTSTART;TZID=America/New_York:20250808T100000
DTEND;TZID=America/New_York:20250808T110000
DTSTAMP:20260419T232638
CREATED:20250501T141940Z
LAST-MODIFIED:20250501T141940Z
UID:81162-1754647200-1754650800@history.delaware.gov
SUMMARY:Walking Tour of the Green
DESCRIPTION:Join the staff at the New Castle Court House Museum for a walking tour of New Castle Green and learn about the history of Green and the structures around it.
URL:https://history.delaware.gov/event/walking-tour-of-the-green-11/
LOCATION:New Castle Court House Museum\, 211 Delaware St.\, New Castle\, Delaware\, 19720\, United States
CATEGORIES:New Castle Court House
END:VEVENT
BEGIN:VEVENT
DTSTART;TZID=America/New_York:20250812T190000
DTEND;TZID=America/New_York:20250812T200000
DTSTAMP:20260419T232638
CREATED:20250501T142635Z
LAST-MODIFIED:20250501T142635Z
UID:81186-1755025200-1755028800@history.delaware.gov
SUMMARY:History Revival
DESCRIPTION:This year’s theme for History Revival is historic sporting! Check back for specific details about program presenters. 
URL:https://history.delaware.gov/event/history-revival-3/
LOCATION:New Castle Court House Museum\, 211 Delaware St.\, New Castle\, Delaware\, 19720\, United States
CATEGORIES:History Revival,New Castle Court House
END:VEVENT
BEGIN:VEVENT
DTSTART;TZID=America/New_York:20250814T190000
DTEND;TZID=America/New_York:20250814T200000
DTSTAMP:20260419T232638
CREATED:20250501T142807Z
LAST-MODIFIED:20250501T142807Z
UID:81192-1755198000-1755201600@history.delaware.gov
SUMMARY:History Revival
DESCRIPTION:This year’s theme for History Revival is historic sporting! Check back for specific details about program presenters. 
URL:https://history.delaware.gov/event/history-revival-4/
LOCATION:New Castle Court House Museum\, 211 Delaware St.\, New Castle\, Delaware\, 19720\, United States
CATEGORIES:History Revival,New Castle Court House
END:VEVENT
BEGIN:VEVENT
DTSTART;TZID=America/New_York:20250815T100000
DTEND;TZID=America/New_York:20250815T110000
DTSTAMP:20260419T232638
CREATED:20250501T142851Z
LAST-MODIFIED:20250501T142851Z
UID:81198-1755252000-1755255600@history.delaware.gov
SUMMARY:Walking Tour of the Green
DESCRIPTION:Join the staff at the New Castle Court House Museum for a walking tour of New Castle Green and learn about the history of Green and the structures around it.
URL:https://history.delaware.gov/event/walking-tour-of-the-green-12/
LOCATION:New Castle Court House Museum\, 211 Delaware St.\, New Castle\, Delaware\, 19720\, United States
CATEGORIES:New Castle Court House
END:VEVENT
BEGIN:VEVENT
DTSTART;TZID=America/New_York:20250816T200000
DTEND;TZID=America/New_York:20250816T223000
DTSTAMP:20260419T232638
CREATED:20250501T143003Z
LAST-MODIFIED:20250501T143003Z
UID:81204-1755374400-1755383400@history.delaware.gov
SUMMARY:Dog Days of Summer
DESCRIPTION:Join us on the Green as we watch 12 Angry Men and discuss some of the history of the jury as it relates to the Court House.
URL:https://history.delaware.gov/event/dog-days-of-summer-2/
LOCATION:New Castle Court House Museum\, 211 Delaware St.\, New Castle\, Delaware\, 19720\, United States
CATEGORIES:New Castle Court House
END:VEVENT
END:VCALENDAR