BEGIN:VCALENDAR
VERSION:2.0
PRODID:-//Division of Historical and Cultural Affairs - State of Delaware - ECPv6.15.12.2//NONSGML v1.0//EN
CALSCALE:GREGORIAN
METHOD:PUBLISH
X-ORIGINAL-URL:https://history.delaware.gov
X-WR-CALDESC:Events for Division of Historical and Cultural Affairs - State of Delaware
REFRESH-INTERVAL;VALUE=DURATION:PT1H
X-Robots-Tag:noindex
X-PUBLISHED-TTL:PT1H
BEGIN:VTIMEZONE
TZID:America/New_York
BEGIN:DAYLIGHT
TZOFFSETFROM:-0500
TZOFFSETTO:-0400
TZNAME:EDT
DTSTART:20240310T070000
END:DAYLIGHT
BEGIN:STANDARD
TZOFFSETFROM:-0400
TZOFFSETTO:-0500
TZNAME:EST
DTSTART:20241103T060000
END:STANDARD
BEGIN:DAYLIGHT
TZOFFSETFROM:-0500
TZOFFSETTO:-0400
TZNAME:EDT
DTSTART:20250309T070000
END:DAYLIGHT
BEGIN:STANDARD
TZOFFSETFROM:-0400
TZOFFSETTO:-0500
TZNAME:EST
DTSTART:20251102T060000
END:STANDARD
BEGIN:DAYLIGHT
TZOFFSETFROM:-0500
TZOFFSETTO:-0400
TZNAME:EDT
DTSTART:20260308T070000
END:DAYLIGHT
BEGIN:STANDARD
TZOFFSETFROM:-0400
TZOFFSETTO:-0500
TZNAME:EST
DTSTART:20261101T060000
END:STANDARD
BEGIN:DAYLIGHT
TZOFFSETFROM:-0500
TZOFFSETTO:-0400
TZNAME:EDT
DTSTART:20270314T070000
END:DAYLIGHT
BEGIN:STANDARD
TZOFFSETFROM:-0400
TZOFFSETTO:-0500
TZNAME:EST
DTSTART:20271107T060000
END:STANDARD
END:VTIMEZONE
BEGIN:VEVENT
DTSTART;TZID=America/New_York:20250712T130000
DTEND;TZID=America/New_York:20250712T150000
DTSTAMP:20260421T020532
CREATED:20250306T150606Z
LAST-MODIFIED:20250306T150606Z
UID:80266-1752325200-1752332400@history.delaware.gov
SUMMARY:Thistledown Fiber Arts Guild Demonstrations
DESCRIPTION:Demonstrations by the Thistledown Fiber Arts Guild. Program occurs during tours to explore fiber arts pursuits and may include spinning\, weaving\, knitting\, and other historic handcrafts.
URL:https://history.delaware.gov/event/thistledown-fiber-arts-guild-demonstrations-10/
LOCATION:John Dickinson Plantation\, 340 Kitts Hummock Road\, Dover\, DE\, 19901
CATEGORIES:John Dickinson Plantation,Thistledown Fiber Arts Guild
END:VEVENT
BEGIN:VEVENT
DTSTART;TZID=America/New_York:20250809T130000
DTEND;TZID=America/New_York:20250809T150000
DTSTAMP:20260421T020532
CREATED:20250501T142217Z
LAST-MODIFIED:20250501T142217Z
UID:81174-1754744400-1754751600@history.delaware.gov
SUMMARY:Thistledown Fiber Arts Guild Demonstrations
DESCRIPTION:Demonstrations by the Thistledown Fiber Arts Guild. Program occurs during tours to explore fiber arts pursuits and may include spinning\, weaving\, knitting\, and other historic handcrafts.
URL:https://history.delaware.gov/event/thistledown-fiber-arts-guild-demonstrations-11/
LOCATION:John Dickinson Plantation\, 340 Kitts Hummock Road\, Dover\, DE\, 19901
CATEGORIES:John Dickinson Plantation
END:VEVENT
BEGIN:VEVENT
DTSTART;TZID=America/New_York:20250823T100000
DTEND;TZID=America/New_York:20250823T153000
DTSTAMP:20260421T020532
CREATED:20250501T143454Z
LAST-MODIFIED:20250501T143454Z
UID:81228-1755943200-1755963000@history.delaware.gov
SUMMARY:18th Century Gaming at the John Dickinson Plantation
DESCRIPTION:Visit to experience a variety of pastimes from over two hundred years ago! Outdoor games 10:00 a.m. to 12:30 p.m. in the East Yard and indoor games 10:30 a.m. to 3:30 p.m. in the Dining Room of the Mansion. 
URL:https://history.delaware.gov/event/18th-century-gaming-at-the-john-dickinson-plantation/
LOCATION:John Dickinson Plantation\, 340 Kitts Hummock Road\, Dover\, DE\, 19901
CATEGORIES:John Dickinson Plantation
END:VEVENT
BEGIN:VEVENT
DTSTART;TZID=America/New_York:20250920T100000
DTEND;TZID=America/New_York:20250920T120000
DTSTAMP:20260421T020532
CREATED:20250602T181806Z
LAST-MODIFIED:20250602T181806Z
UID:81565-1758362400-1758369600@history.delaware.gov
SUMMARY:African Burial Ground Guided Visitation
DESCRIPTION:This is an opportunity to visit the African burial ground and engage with guides about the complex history of the site. \nReservations are required and can be made after 8/20/2025 by calling 302-739-3277. This program is recommended for ages 13 and older. \nThe burial ground is believed to be the final resting place for enslaved and free Black men\, women and children who died on the plantation. The guided visitations will reflect on the historical context and archaeological research surrounding this significant piece of Delaware’s shared history. \nThe nearly 2 hour experience will include an orientation in the visitor center\, a tour of there created log’d dwelling and a mile round-trip walk to the burial ground\, which will include a moment of silence. For the safety of guests and staff\, the Delaware Division of Historical and Cultural Affairs reserves the right to cancel or postpone any event due to inclement and/or dangerous weather conditions. \nA majority of the activities will take place outdoors. Participants must be prepared for adverse weather conditions and for travel\, by foot\, over uneven terrain including an unpaved road and an agricultural field. The wearing of appropriate clothing is advised including a hat\, closed-toed shoes with good tread such as sneakers or boots\, long pants and clothing that accounts for current weather conditions and the presence of insects. Visitors are also advised to bring their own insect repellent and sunscreen.
URL:https://history.delaware.gov/event/african-burial-ground-guided-visitation-2/
LOCATION:John Dickinson Plantation\, 340 Kitts Hummock Road\, Dover\, DE\, 19901
CATEGORIES:John Dickinson Plantation
END:VEVENT
BEGIN:VEVENT
DTSTART;TZID=America/New_York:20250927T100000
DTEND;TZID=America/New_York:20250927T113000
DTSTAMP:20260421T020532
CREATED:20250602T181553Z
LAST-MODIFIED:20250903T182156Z
UID:81559-1758967200-1758972600@history.delaware.gov
SUMMARY:National Estuaries Day Hike: Walking the connection from JDP and DNERR
DESCRIPTION:Join DNERR and John Dickinson Plantation education staff for a free hike from the St. Jones Reserve to the John Dickinson Plantation and back. Learn about the natural and cultural history of the area while experiencing the life of the St. Jones Estuary. Pre-registration is required; The St. Jones Reserve will be taking sign-ups through this link.
URL:https://history.delaware.gov/event/national-estuaries-day-hike-the-john-dickinson-plantation-date-may-change/
LOCATION:St. Jones Reserve\, 818 Kitts Hummock Rd\, Dover\, DE\, 19901
CATEGORIES:John Dickinson Plantation
END:VEVENT
BEGIN:VEVENT
DTSTART;TZID=America/New_York:20251011T103000
DTEND;TZID=America/New_York:20251011T160000
DTSTAMP:20260421T020532
CREATED:20250904T155159Z
LAST-MODIFIED:20251009T212857Z
UID:82566-1760178600-1760198400@history.delaware.gov
SUMMARY:Historic Trades Day
DESCRIPTION:Explore historic occupations at the John Dickinson Plantation: Learn about historic wood-working from a peg and shingle maker. Experience the sights and sounds of a blacksmith at work. Watch fiber arts pursuits\, including spinning and weaving. Learn about pigments and paints while you paint your own watercolor.\nFREE ADMISSION340 Kitts Hummock Road\, Dover.\n10:30 a.m.–4 p.m. Questions? Call 302-739-3277 or email JDPmuseum@delaware.gov
URL:https://history.delaware.gov/event/historic-trades-day-2/
LOCATION:John Dickinson Plantation\, 340 Kitts Hummock Road\, Dover\, DE\, 19901
CATEGORIES:John Dickinson Plantation
END:VEVENT
BEGIN:VEVENT
DTSTART;TZID=America/New_York:20260110T130000
DTEND;TZID=America/New_York:20260110T150000
DTSTAMP:20260421T020532
CREATED:20260105T185639Z
LAST-MODIFIED:20260105T185639Z
UID:83228-1768050000-1768057200@history.delaware.gov
SUMMARY:Thistledown Fiber Arts Guild Demonstrations
DESCRIPTION:Demonstrations by the Thistledown Fiber Arts Guild. Program occurs during tours to explore fiber arts pursuits and may include spinning\, weaving\, knitting\, and other historic handcrafts. Group meeting 1-3 p.m. in the Mansion Dining Room.
URL:https://history.delaware.gov/event/thistledown-fiber-arts-guild-demonstrations-15/
LOCATION:John Dickinson Plantation\, 340 Kitts Hummock Road\, Dover\, DE\, 19901
CATEGORIES:John Dickinson Plantation,Thistledown Fiber Arts Guild
END:VEVENT
BEGIN:VEVENT
DTSTART;TZID=America/New_York:20260214T130000
DTEND;TZID=America/New_York:20260214T150000
DTSTAMP:20260421T020532
CREATED:20260105T194146Z
LAST-MODIFIED:20260105T194146Z
UID:83257-1771074000-1771081200@history.delaware.gov
SUMMARY:Thistledown Fiber Arts Guild Demonstrations
DESCRIPTION:Demonstrations by the Thistledown Fiber Arts Guild. Program occurs during tours to explore fiber arts pursuits and may include spinning\, weaving\, knitting\, and other historic handcrafts. Group meeting 1-3 p.m. in the Mansion Dining Room.
URL:https://history.delaware.gov/event/thistledown-fiber-arts-guild-demonstrations-16/
LOCATION:John Dickinson Plantation\, 340 Kitts Hummock Road\, Dover\, DE\, 19901
CATEGORIES:John Dickinson Plantation,Thistledown Fiber Arts Guild
END:VEVENT
BEGIN:VEVENT
DTSTART;TZID=America/New_York:20260314T130000
DTEND;TZID=America/New_York:20260314T150000
DTSTAMP:20260421T020532
CREATED:20260105T201800Z
LAST-MODIFIED:20260105T201800Z
UID:83296-1773493200-1773500400@history.delaware.gov
SUMMARY:Thistledown Fiber Arts Guild Demonstrations
DESCRIPTION:Demonstrations by the Thistledown Fiber Arts Guild. Program occurs during tours to explore fiber arts pursuits and may include spinning\, weaving\, knitting\, and other historic handcrafts. Group meeting 1-3 p.m. in the Mansion Dining Room.
URL:https://history.delaware.gov/event/thistledown-fiber-arts-guild-demonstrations-17/
LOCATION:John Dickinson Plantation\, 340 Kitts Hummock Road\, Dover\, DE\, 19901
CATEGORIES:John Dickinson Plantation,Thistledown Fiber Arts Guild
END:VEVENT
BEGIN:VEVENT
DTSTART;TZID=America/New_York:20260411T130000
DTEND;TZID=America/New_York:20260411T150000
DTSTAMP:20260421T020532
CREATED:20260304T195936Z
LAST-MODIFIED:20260304T195936Z
UID:83663-1775912400-1775919600@history.delaware.gov
SUMMARY:Thistledown Fiber Arts Guild Demonstrations
DESCRIPTION:Demonstrations by the Thistledown Fiber Arts Guild. Program occurs during tours to explore fiber arts pursuits and may include spinning\, weaving\, knitting\, and other historic handcrafts. Group meeting 1-3 p.m. in the Mansion Dining Room.
URL:https://history.delaware.gov/event/thistledown-fiber-arts-guild-demonstrations-18/
LOCATION:John Dickinson Plantation\, 340 Kitts Hummock Road\, Dover\, DE\, 19901
CATEGORIES:John Dickinson Plantation
END:VEVENT
END:VCALENDAR