BEGIN:VCALENDAR
VERSION:2.0
PRODID:-//Division of Historical and Cultural Affairs - State of Delaware - ECPv6.15.12.2//NONSGML v1.0//EN
CALSCALE:GREGORIAN
METHOD:PUBLISH
X-WR-CALNAME:Division of Historical and Cultural Affairs - State of Delaware
X-ORIGINAL-URL:https://history.delaware.gov
X-WR-CALDESC:Events for Division of Historical and Cultural Affairs - State of Delaware
REFRESH-INTERVAL;VALUE=DURATION:PT1H
X-Robots-Tag:noindex
X-PUBLISHED-TTL:PT1H
BEGIN:VTIMEZONE
TZID:America/New_York
BEGIN:DAYLIGHT
TZOFFSETFROM:-0500
TZOFFSETTO:-0400
TZNAME:EDT
DTSTART:20240310T070000
END:DAYLIGHT
BEGIN:STANDARD
TZOFFSETFROM:-0400
TZOFFSETTO:-0500
TZNAME:EST
DTSTART:20241103T060000
END:STANDARD
BEGIN:DAYLIGHT
TZOFFSETFROM:-0500
TZOFFSETTO:-0400
TZNAME:EDT
DTSTART:20250309T070000
END:DAYLIGHT
BEGIN:STANDARD
TZOFFSETFROM:-0400
TZOFFSETTO:-0500
TZNAME:EST
DTSTART:20251102T060000
END:STANDARD
BEGIN:DAYLIGHT
TZOFFSETFROM:-0500
TZOFFSETTO:-0400
TZNAME:EDT
DTSTART:20260308T070000
END:DAYLIGHT
BEGIN:STANDARD
TZOFFSETFROM:-0400
TZOFFSETTO:-0500
TZNAME:EST
DTSTART:20261101T060000
END:STANDARD
END:VTIMEZONE
BEGIN:VEVENT
DTSTART;TZID=America/New_York:20251025T100000
DTEND;TZID=America/New_York:20251025T163000
DTSTAMP:20260421T224645
CREATED:20250821T170905Z
LAST-MODIFIED:20250821T170905Z
UID:82464-1761386400-1761409800@history.delaware.gov
SUMMARY:William Penn Day
DESCRIPTION:The New Castle Court House Museum is hosting tours during William Penn Day\, with historical interpreters on hand to answer questions and talk about William Penn’s connection to New Castle and the Court House.\n \nAt 11 a.m.\, Doug Miller\, site director of Penn’s Pennsbury Manor home\, will present “William Penn and the founding of a colony.”  In 1681\, with the stroke of a pen\, the King of England made Penn the single largest landholder in all of England.  The son of a high admiral\, highly educated and trained in the military arts\, young Penn’s path would take him in a different direction when he chose to become a Quaker. \n\n \nAt 3 p.m.\, the Suzuki Academy from the Delaware Music School will play Baroque music from the era. 
URL:https://history.delaware.gov/event/william-penn-day-2/
LOCATION:New Castle Court House Museum\, 211 Delaware St.\, New Castle\, Delaware\, 19720\, United States
CATEGORIES:New Castle Court House
END:VEVENT
BEGIN:VEVENT
DTSTART;TZID=America/New_York:20251025T140000
DTEND;TZID=America/New_York:20251025T160000
DTSTAMP:20260421T224645
CREATED:20250817T154010Z
LAST-MODIFIED:20250817T154010Z
UID:82375-1761400800-1761408000@history.delaware.gov
SUMMARY:Mysteries of History walking tours
DESCRIPTION:Explore the darker and more unusual history of Lewes with this spooky walking tour! Participants will wind through downtown Lewes while Zwaanendael interpreters share stories of shipwrecks\, mysterious disappearances and much more. The tour begins at the Zwaanendael Museum and ends at St. Peter’s Episcopal Church. The tour lasts approximately 80 minutes and is a half mile long. There is no cost to participate\, but pre-registration is required.  \nThese tours fill up quickly and space is limited so reserve your spot! Call the Zwaanendael Museum at 302-645-1148 or email at Zmuseum@delaware.gov to sign up.
URL:https://history.delaware.gov/event/mysteries-of-history-walking-tours-6/
LOCATION:Zwaanendael Museum\, 102 Kings Highway\, Lewes\, DE\, 19958
CATEGORIES:Zwaanendael Museum
END:VEVENT
END:VCALENDAR