BEGIN:VCALENDAR
VERSION:2.0
PRODID:-//Division of Historical and Cultural Affairs - State of Delaware - ECPv6.15.12.2//NONSGML v1.0//EN
CALSCALE:GREGORIAN
METHOD:PUBLISH
X-WR-CALNAME:Division of Historical and Cultural Affairs - State of Delaware
X-ORIGINAL-URL:https://history.delaware.gov
X-WR-CALDESC:Events for Division of Historical and Cultural Affairs - State of Delaware
REFRESH-INTERVAL;VALUE=DURATION:PT1H
X-Robots-Tag:noindex
X-PUBLISHED-TTL:PT1H
BEGIN:VTIMEZONE
TZID:America/New_York
BEGIN:DAYLIGHT
TZOFFSETFROM:-0500
TZOFFSETTO:-0400
TZNAME:EDT
DTSTART:20240310T070000
END:DAYLIGHT
BEGIN:STANDARD
TZOFFSETFROM:-0400
TZOFFSETTO:-0500
TZNAME:EST
DTSTART:20241103T060000
END:STANDARD
BEGIN:DAYLIGHT
TZOFFSETFROM:-0500
TZOFFSETTO:-0400
TZNAME:EDT
DTSTART:20250309T070000
END:DAYLIGHT
BEGIN:STANDARD
TZOFFSETFROM:-0400
TZOFFSETTO:-0500
TZNAME:EST
DTSTART:20251102T060000
END:STANDARD
BEGIN:DAYLIGHT
TZOFFSETFROM:-0500
TZOFFSETTO:-0400
TZNAME:EDT
DTSTART:20260308T070000
END:DAYLIGHT
BEGIN:STANDARD
TZOFFSETFROM:-0400
TZOFFSETTO:-0500
TZNAME:EST
DTSTART:20261101T060000
END:STANDARD
END:VTIMEZONE
BEGIN:VEVENT
DTSTART;TZID=America/New_York:20251018T100000
DTEND;TZID=America/New_York:20251018T170000
DTSTAMP:20260423T021042
CREATED:20250909T142522Z
LAST-MODIFIED:20250909T142522Z
UID:82691-1760781600-1760806800@history.delaware.gov
SUMMARY:Hip Hop Cultural Summit: Hip Hop’s Impact On Race and Culture
DESCRIPTION:The Delaware Art Museum will host the third annual Hip Hop Cultural Summit from 10 a.m. to 5 p.m. on Saturday\, Oct. 18. This year’s summit will highlight the history of Rosedale Beach. The keynote speaker will be Darryl “DMC” McDaniels\, co-founder of the legendary Run-DMC. \nThe event is free for members and children 6 and under. Adult admission is $10. Admission for children ages 7-18 is $6. Advance registration is encouraged as prices will increase on the day of the event. For more information\, go to delart.org/event/3rd-annual-hip-hop-cultural-summit-hip-hop-and-race.
URL:https://history.delaware.gov/event/hip-hop-cultural-summit-hip-hops-impact-on-race-and-culture/
LOCATION:Delaware Art Museum\, 2301 Kentmere Parkway\, Wilmington\, DE\, 19806\, United States
END:VEVENT
BEGIN:VEVENT
DTSTART;TZID=America/New_York:20251018T140000
DTEND;TZID=America/New_York:20251018T160000
DTSTAMP:20260423T021042
CREATED:20250817T153923Z
LAST-MODIFIED:20250817T153923Z
UID:82369-1760796000-1760803200@history.delaware.gov
SUMMARY:Mysteries of History walking tours
DESCRIPTION:Explore the darker and more unusual history of Lewes with this spooky walking tour! Participants will wind through downtown Lewes while Zwaanendael interpreters share stories of shipwrecks\, mysterious disappearances and much more. The tour begins at the Zwaanendael Museum and ends at St. Peter’s Episcopal Church. The tour lasts approximately 80 minutes and is a half mile long. There is no cost to participate\, but pre-registration is required.  \nThese tours fill up quickly and space is limited so reserve your spot! Call the Zwaanendael Museum at 302-645-1148 or email at Zmuseum@delaware.gov to sign up.
URL:https://history.delaware.gov/event/mysteries-of-history-walking-tours-5/
LOCATION:Zwaanendael Museum\, 102 Kings Highway\, Lewes\, DE\, 19958
CATEGORIES:Zwaanendael Museum
END:VEVENT
END:VCALENDAR